BEGIN:VCALENDAR
VERSION:2.0
PRODID:-//LaVeguilla - La_Cepa_Alta - ECPv6.3.1//NONSGML v1.0//EN
CALSCALE:GREGORIAN
METHOD:PUBLISH
X-WR-CALNAME:LaVeguilla - La_Cepa_Alta
X-ORIGINAL-URL:https://www.vinoslaveguilla.com
X-WR-CALDESC:Eventos para LaVeguilla - La_Cepa_Alta
REFRESH-INTERVAL;VALUE=DURATION:PT1H
X-Robots-Tag:noindex
X-PUBLISHED-TTL:PT1H
BEGIN:VTIMEZONE
TZID:Europe/Madrid
BEGIN:DAYLIGHT
TZOFFSETFROM:+0100
TZOFFSETTO:+0200
TZNAME:CEST
DTSTART:20260329T010000
END:DAYLIGHT
BEGIN:STANDARD
TZOFFSETFROM:+0200
TZOFFSETTO:+0100
TZNAME:CET
DTSTART:20261025T010000
END:STANDARD
END:VTIMEZONE
BEGIN:VEVENT
DTSTART;TZID=Europe/Madrid:20260426T130000
DTEND;TZID=Europe/Madrid:20260426T150000
DTSTAMP:20260426T014504
CREATED:20260214T093621Z
LAST-MODIFIED:20260214T093817Z
UID:10000037-1777208400-1777215600@www.vinoslaveguilla.com
SUMMARY:VI Folk Festival: Dirty Hot Rondalla\, con Ñaco Goñi
DESCRIPTION:Nuestras jotas segovianas a ritmo de bluegras\nSi coges a Fede Aguado\, su banjo y su mandolina\, le juntas con la Dirty Hot Rondalla de los hermanos Saldaña –Miguel y su laúd\, Toño y su guitarra acústica y Luisvi y su bandurria–\, y mezclas bien\, sin agitar\, obtienes un cóctel sorprendente y sabrosón\, muy del gusto de los fieles de LaVeguilla Folk Festival. Este singular cuarteto de cuerda fusiona jotas clásicas de Castilla\, Navarra\, La Mancha y la Alcarria\, natal de la Dirty\, con folk americano y Bluegrass\, dando a los estilos “joteros” la intención y la instrumentación propios del Country y a las piezas deBluegrass el maravilloso aire “rondallero” de la bandurria y el laúd. Lo de las armonías vocales es otro cantar\, y nunca mejor dicho… Perfectamente compenetradas\, afinadas y armonizadas\, siempre con un solista como referencia\, y con el toque “dirty hot\, despliegan un espectáculo musical que ningún veguillano debería perderse… porque además\, en esta ocasión\, les va a acompañar el enorme Ñaco Goñi con su armónica\, viejos conocidos ambos de LaVeguillaFolk Festival\,… ¡El que avisa no es traidor!
URL:https://www.vinoslaveguilla.com/evento/vi-folk-festival-dirty-hot-rondalla-con-naco-goni/
LOCATION:LaVeguilla – Bodegas La Cepa Alta\, Ctra. Quintanilla de Onésimo\, 28\, Olivares de Duero\, Valladolid\, 47359\, España
CATEGORIES:VI Folk Festival
ATTACH;FMTTYPE=image/jpeg:https://www.vinoslaveguilla.com/wp-content/uploads/2026/02/lvff2026-03-dirty-hot-rondalla.jpg
ORGANIZER;CN="LaVeguilla":MAILTO:laveguilla@gmail.com
END:VEVENT
END:VCALENDAR